BEGIN:VCALENDAR
PRODID:-//eluceo/ical//2.0/EN
VERSION:2.0
CALSCALE:GREGORIAN
BEGIN:VEVENT
UID:09c526b0ad7c3759840611b201700351
DTSTAMP:20260425T122218Z
SUMMARY:Banque Alimentaire collecte les 27 et 28 novembre 2015
DESCRIPTION:Conférencier(s): S'inscrire impérativement avant le 29 octobr
 e auprès de Charles ROUX
URL:https://saint-etienne-est.rotary1710.org/fr/agenda/show/4576
DTSTART;TZID=Europe/Zurich:20151127T083000
DTEND;TZID=Europe/Zurich:20151128T193000
LOCATION:en fonction de vos affectations
CATEGORIES:Rotary
END:VEVENT
BEGIN:VTIMEZONE
TZID:Europe/Zurich
BEGIN:STANDARD
DTSTART:20151127T083000
TZNAME:CET
TZOFFSETTO:+0100
TZOFFSETFROM:+0100
END:STANDARD
END:VTIMEZONE
END:VCALENDAR
